BEGIN:VCALENDAR
VERSION:2.0
PRODID:-//Boğaziçi Üniversitesi Duyuruları//TR
BEGIN:VEVENT
DTSTAMP:20260423T024213
DTSTART:20201203T170000
SUMMARY:İktidarın Sınırları: Osmanlı Tarihinden (ve Tarihçiliğinden) İzlenimler
LOCATION:Online
END:VEVENT
END:VCALENDAR